BEGIN:VCALENDAR
METHOD:PUBLISH
VERSION:2.0
CALSCALE:GREGORIAN
PRODID:-//NONSGML WPForms//NONSGML Sugar Calendar Feeds v3.11.0//EN
X-WR-CALNAME:ATNF 2026
X-WR-CALDESC:Tobacco Reporter
X-WR-TIMEZONE:America/New_York
BEGIN:VTIMEZONE
TZID:America/New_York
BEGIN:STANDARD
TZOFFSETFROM:-0400
TZOFFSETTO:-0500
DTSTART:20251102T060000
TZNAME:EST
END:STANDARD
BEGIN:DAYLIGHT
TZOFFSETFROM:-0500
TZOFFSETTO:-0400
DTSTART:20260308T070000
TZNAME:EDT
END:DAYLIGHT
END:VTIMEZONE
BEGIN:VTIMEZONE
TZID:America/New_York
BEGIN:STANDARD
TZOFFSETFROM:-0400
TZOFFSETTO:-0500
DTSTART:20251102T060000
TZNAME:EST
END:STANDARD
BEGIN:DAYLIGHT
TZOFFSETFROM:-0500
TZOFFSETTO:-0400
DTSTART:20260308T070000
TZNAME:EDT
END:DAYLIGHT
END:VTIMEZONE
BEGIN:VEVENT
SUMMARY:ATNF 2026
DESCRIPTION:
URL;VALUE=URI:https://tobaccoreporter.com/events/atnf-2026/
UID:urn:uuid:a99f60de-4fc0-4209-a21f-e27ea5f4002d
STATUS:CONFIRMED
ORGANIZER:
DTSTAMP:20260420T064532Z
DTSTART;TZID=America/New_York:20260420T130000
DTEND;TZID=America/New_York:20260422T170000
LOCATION:44050 Woodridge Pkwy
END:VEVENT
END:VCALENDAR