BEGIN:VCALENDAR
METHOD:PUBLISH
VERSION:2.0
CALSCALE:GREGORIAN
PRODID:-//NONSGML WPForms//NONSGML Sugar Calendar Feeds v3.11.0//EN
X-WR-CALNAME:Global Tobacco & Nicotine Conference 2026
X-WR-CALDESC:Tobacco Reporter
X-WR-TIMEZONE:America/New_York
BEGIN:VTIMEZONE
TZID:America/New_York
BEGIN:DAYLIGHT
TZOFFSETFROM:-0400
TZOFFSETTO:-0400
DTSTART:20260322T120000
TZNAME:EDT
END:DAYLIGHT
END:VTIMEZONE
BEGIN:VTIMEZONE
TZID:America/New_York
BEGIN:DAYLIGHT
TZOFFSETFROM:-0400
TZOFFSETTO:-0400
DTSTART:20260322T120000
TZNAME:EDT
END:DAYLIGHT
END:VTIMEZONE
BEGIN:VEVENT
SUMMARY:Global Tobacco & Nicotine Conference 2026
DESCRIPTION:
URL;VALUE=URI:https://tobaccoreporter.com/events/gtnf-2026/
UID:urn:uuid:c64751a0-da29-4195-aba7-778403d10f20
STATUS:CONFIRMED
ORGANIZER:
DTSTAMP:20260420T082318Z
DTSTART;VALUE=DATE:20260921
DTEND;VALUE=DATE:20260923
LOCATION:Avenue Louise 71
END:VEVENT
END:VCALENDAR